BEGIN:VCALENDAR
VERSION:2.0
PRODID:-//Sandy Pines - ECPv6.15.20//NONSGML v1.0//EN
CALSCALE:GREGORIAN
METHOD:PUBLISH
X-WR-CALNAME:Sandy Pines
X-ORIGINAL-URL:https://sandypines.com
X-WR-CALDESC:Events for Sandy Pines
REFRESH-INTERVAL;VALUE=DURATION:PT1H
X-Robots-Tag:noindex
X-PUBLISHED-TTL:PT1H
BEGIN:VTIMEZONE
TZID:America/Detroit
BEGIN:DAYLIGHT
TZOFFSETFROM:-0500
TZOFFSETTO:-0400
TZNAME:EDT
DTSTART:20230312T070000
END:DAYLIGHT
BEGIN:STANDARD
TZOFFSETFROM:-0400
TZOFFSETTO:-0500
TZNAME:EST
DTSTART:20231105T060000
END:STANDARD
BEGIN:DAYLIGHT
TZOFFSETFROM:-0500
TZOFFSETTO:-0400
TZNAME:EDT
DTSTART:20240310T070000
END:DAYLIGHT
BEGIN:STANDARD
TZOFFSETFROM:-0400
TZOFFSETTO:-0500
TZNAME:EST
DTSTART:20241103T060000
END:STANDARD
BEGIN:DAYLIGHT
TZOFFSETFROM:-0500
TZOFFSETTO:-0400
TZNAME:EDT
DTSTART:20250309T070000
END:DAYLIGHT
BEGIN:STANDARD
TZOFFSETFROM:-0400
TZOFFSETTO:-0500
TZNAME:EST
DTSTART:20251102T060000
END:STANDARD
END:VTIMEZONE
BEGIN:VEVENT
DTSTART;TZID=America/Detroit:20240803T080000
DTEND;TZID=America/Detroit:20240803T123000
DTSTAMP:20260419T091706
CREATED:20220622T193806Z
LAST-MODIFIED:20240625T140916Z
UID:41398-1722672000-1722688200@sandypines.com
SUMMARY:LMGC Member-Guest Scramble
DESCRIPTION:When: Saturday\, August 3rd from 8:00 am-12:30 pm \nFormat: 18-hole two-person scramble\nMember and a guest of associate member and a guest. (No member and associate member). \nCost to Play: Members $24\, Associate Members $30\, Golf Members $10\, and Guests $33 \nPrizes: 1st Place: $250\, 2nd Place: $150\, 3rd Place: $100 and 3 Blind Draws: $70 (based on 36 teams) \nEvents: Skins pot available\, closest to the pin\, long drive\, and long putt. \nFood and drink specials! \nSign-up in the Clubhouse!
URL:https://sandypines.com/event/lmgc-member-guest-outing/
LOCATION:Lake Monterey Golf Course\, 3765 28th St\, Dorr\, MI\, 49323\, United States
CATEGORIES:Lake Monterey Golf Course
ATTACH;FMTTYPE=image/png:https://sandypines.com/wp-content/uploads/Website-Banners-2-12.png
END:VEVENT
BEGIN:VEVENT
DTSTART;TZID=America/Detroit:20240810T090000
DTEND;TZID=America/Detroit:20240810T120000
DTSTAMP:20260419T091706
CREATED:20230802T130847Z
LAST-MODIFIED:20251120T191258Z
UID:48478-1723280400-1723291200@sandypines.com
SUMMARY:Fire Safety Day
DESCRIPTION:The Salem Fire Department will be at the Dam this Saturday\, August 10th. They will have their fire trucks parked there for you to stop by and sit in\, spray the fire hose\, try on bunker gear\, check out the equipment\, ask questions\, and take lots of photos.   \nThey are planning on getting here around 8 / 8:15 am for setup and running from 9 am until noon.
URL:https://sandypines.com/event/fire-safety-day/
LOCATION:Lake Monterey Dam\, 2745 136th Ave\, Hopkins\, MI\, 49328\, United States
CATEGORIES:Recreation Events
ATTACH;FMTTYPE=image/png:https://sandypines.com/wp-content/uploads/Website-Banners-2-2-5.png
END:VEVENT
BEGIN:VEVENT
DTSTART;TZID=America/Detroit:20240810T100000
DTEND;TZID=America/Detroit:20240810T140000
DTSTAMP:20260419T091706
CREATED:20221004T181552Z
LAST-MODIFIED:20240502T154739Z
UID:44160-1723284000-1723298400@sandypines.com
SUMMARY:Christmas Amazing Race
DESCRIPTION:[vc_row][vc_column][vc_column_text] \nEvent Information:\nEmbark on a thrilling yuletide adventure with our Christmas Amazing Race event! Sign-ups kick off on Friday\, June 28th\, at noon\, exclusively at the Recreation Office. Secure your spot and claim your team in person\, as only 12 teams are available – act fast\, as these coveted slots are sure to fill up quickly! Gather your festive squad of 5 to 7 members\, each aged 13 or older\, for a day of exhilarating challenges and merry competition. On Saturday\, August 10th\, from 10 am to 2 pm\, the entire park transforms into a festive playground for this unforgettable holiday race. Don’t miss your chance to join in the festive fun – sign up and get ready for a Christmas Amazing Race to remember! 🎄🏁🎅 \nDate & Time:\nSaturday\, August 10th\, from 10 am to 2 pm \nLocation:\nPark Wide – Starting at the Chapel \nRegistration Required?:\nYes – You must sign up at the Recreation Office at the Recreation Station! \nAge Range:\nAges 13+ \nPrice:\n$50 per team \nVolunteers:\nGear up for an adventure-filled day as we host our annual Amazing Race! We’re seeking 1-2 volunteers per station to help guide participants through the challenges. Your commitment from 9:30 am to around 2:15 pm will ensure the smooth running of this exciting event. Sign up using the form below and let’s make this race truly amazing![/vc_column_text][/vc_column][/vc_row][vc_row][vc_column]\n\n                \n                        \n                            Volunteer Form - Amazing Race\n                        \n                        NAME (FIRST & LAST)(Required)EMAIL(Required)SITE NUMBER(Required)\n          \n            \n            \n            \n            \n            \n            \n            \n            \n            \n            \n            \n            \n            \n        \n                        \n                        \n[/vc_column][/vc_row]
URL:https://sandypines.com/event/christmas-amazing-race/
LOCATION:Sandy Pines\, 3681 28th St\, Dorr\, MI\, 49323\, United States
CATEGORIES:Recreation Events
ATTACH;FMTTYPE=image/png:https://sandypines.com/wp-content/uploads/Christmas-Amazing-Race.png
ORGANIZER;CN="Abby Greenfield - Recreation Manager":MAILTO:Abby@sandypines.com
END:VEVENT
BEGIN:VEVENT
DTSTART;TZID=America/Detroit:20240817T150000
DTEND;TZID=America/Detroit:20240817T170000
DTSTAMP:20260419T091706
CREATED:20240131T194528Z
LAST-MODIFIED:20240131T195033Z
UID:50459-1723906800-1723914000@sandypines.com
SUMMARY:Paint Wars
DESCRIPTION:Event Information:\nGear up for an explosion of color at our Paint Wars event on Saturday\, August 17th\, from 3 to 5 pm! Transform into a walking canvas and immerse yourself in this vibrant and exhilarating experience. Make sure to don goggles (GOGGLES ARE REQUIRED) and don your whitest attire\, as the battle will be waged with super soakers and balloons filled with an array of dazzling paint. Get ready to unleash your creativity and leave the event with a masterpiece – yourself! Join us for an afternoon of colorful chaos\, laughter\, and memories. Let the Paint Wars begin! 🎨🖌❕ \nDate & Time:\nAugust 17th\, from 3 to 5 pm \nLocation:\nSoccer Field \nRegistration Required?:\nNo – Just show up! You must wear goggles. \nAge Range:\nAll Ages – Adults & Kids! \nPrice:\nFree
URL:https://sandypines.com/event/paint-wars/
LOCATION:Soccer Field
CATEGORIES:Recreation Events
ATTACH;FMTTYPE=image/png:https://sandypines.com/wp-content/uploads/Paint-Wars.png
ORGANIZER;CN="Abby Greenfield - Recreation Manager":MAILTO:Abby@sandypines.com
END:VEVENT
BEGIN:VEVENT
DTSTART;TZID=America/Detroit:20240824T080000
DTEND;TZID=America/Detroit:20240824T170000
DTSTAMP:20260419T091706
CREATED:20230814T152113Z
LAST-MODIFIED:20240131T201148Z
UID:48776-1724486400-1724518800@sandypines.com
SUMMARY:The LMGC Club Championship
DESCRIPTION:2023 Information:\n\nCOST:\nGolf Members $30\nSP Members $60\nSP Assoc Member $75\nLeague Player $110\n\nINCLUDES:\n3 rounds of golf\, Saturday lunch\, Prizes\, Event Holes *optional skins*\n\nPRIZES:\nWinners of championship Flights will receive a 2024 Golf Membership\nCash Prizes for 1st and 2nd in each flight\nLMGC Gift Cards for 3rd & 4th in each flight\nContact David or Larry at LMGC clubhouse or email golf@golflmgc.com\n2024 INFORMATION COMING SOON 
URL:https://sandypines.com/event/the-lmgc-club-championship/2024-08-24/
LOCATION:Lake Monterey Golf Course\, 3765 28th St\, Dorr\, MI\, 49323\, United States
CATEGORIES:Lake Monterey Golf Course
ATTACH;FMTTYPE=image/png:https://sandypines.com/wp-content/uploads/LMGC-club-championship.png
END:VEVENT
BEGIN:VEVENT
DTSTART;TZID=America/Detroit:20240831T103000
DTEND;TZID=America/Detroit:20240831T123000
DTSTAMP:20260419T091706
CREATED:20240731T182322Z
LAST-MODIFIED:20240822T133953Z
UID:55308-1725100200-1725107400@sandypines.com
SUMMARY:RC Rock Crawler Competition
DESCRIPTION:Join us for the RC Rock Crawler Competition on Saturday\, August 31st\, at the RC Crawler Course! Races start at  10:30 am\, with registration beginning at 10:15 am. Test your skills on challenging terrain and compete with fellow enthusiasts.\nAny additional questions? Please call Rodger at 616-262-5814. See you there!
URL:https://sandypines.com/event/rc-rock-crawler-competition/
LOCATION:RC Rock Crawler Course
CATEGORIES:Community Events
ATTACH;FMTTYPE=image/png:https://sandypines.com/wp-content/uploads/RC-Rock-Crawler-Open-House-1.png
END:VEVENT
END:VCALENDAR