BEGIN:VCALENDAR
VERSION:2.0
PRODID:-//Sandy Pines - ECPv6.15.20//NONSGML v1.0//EN
CALSCALE:GREGORIAN
METHOD:PUBLISH
X-ORIGINAL-URL:https://sandypines.com
X-WR-CALDESC:Events for Sandy Pines
REFRESH-INTERVAL;VALUE=DURATION:PT1H
X-Robots-Tag:noindex
X-PUBLISHED-TTL:PT1H
BEGIN:VTIMEZONE
TZID:America/Detroit
BEGIN:DAYLIGHT
TZOFFSETFROM:-0500
TZOFFSETTO:-0400
TZNAME:EDT
DTSTART:20230312T070000
END:DAYLIGHT
BEGIN:STANDARD
TZOFFSETFROM:-0400
TZOFFSETTO:-0500
TZNAME:EST
DTSTART:20231105T060000
END:STANDARD
BEGIN:DAYLIGHT
TZOFFSETFROM:-0500
TZOFFSETTO:-0400
TZNAME:EDT
DTSTART:20240310T070000
END:DAYLIGHT
BEGIN:STANDARD
TZOFFSETFROM:-0400
TZOFFSETTO:-0500
TZNAME:EST
DTSTART:20241103T060000
END:STANDARD
BEGIN:DAYLIGHT
TZOFFSETFROM:-0500
TZOFFSETTO:-0400
TZNAME:EDT
DTSTART:20250309T070000
END:DAYLIGHT
BEGIN:STANDARD
TZOFFSETFROM:-0400
TZOFFSETTO:-0500
TZNAME:EST
DTSTART:20251102T060000
END:STANDARD
END:VTIMEZONE
BEGIN:VEVENT
DTSTART;TZID=America/Detroit:20240714T183000
DTEND;TZID=America/Detroit:20240714T213000
DTSTAMP:20260419T104021
CREATED:20240130T133929Z
LAST-MODIFIED:20240131T201330Z
UID:50341-1720981800-1720992600@sandypines.com
SUMMARY:Kids Swim
DESCRIPTION:Event Information:\nDive into a splashing good time at our Kids Swim event on Sunday\, July 14th & August 25th\, from 6:30 to 9:30 pm at the Waterpark! Exclusively for 8 to 12-year-old kids\, this aquatic adventure promises an evening filled with laughter and fun. Registration is a must\, so be sure to sign up promptly at the Recreation Office – limited spots are available for the first 50 kids! It’s a free event\, but the memories made will be priceless. Please note\, that no food will be provided\, so bring your energy\, swimsuits\, and a sense of aquatic excitement. Join us for an unforgettable Kids Swim under the stars! 🌊🏊‍♂️🌟 \nDate & Time:\nSunday\, July 14th & August 25th from 6:30 – 9:30 pm \nLocation:\nWater Park \nRegistration Required?:\nYes – You must register in person at the Recreation Station \nAge Range:\nAges 8 – 12 \nPrice:\nFree
URL:https://sandypines.com/event/kids-swim/2024-07-14/
LOCATION:Water Park\, 2745 136th Ave\, Hopkins\, MI\, 49328\, United States
CATEGORIES:Recreation Events
ATTACH;FMTTYPE=image/png:https://sandypines.com/wp-content/uploads/Kids-Swim.png
ORGANIZER;CN="Abby Greenfield - Recreation Manager":MAILTO:Abby@sandypines.com
END:VEVENT
BEGIN:VEVENT
DTSTART;TZID=America/Detroit:20240716T180000
DTEND;TZID=America/Detroit:20240716T200000
DTSTAMP:20260419T104021
CREATED:20240130T134729Z
LAST-MODIFIED:20240201T161356Z
UID:50344-1721152800-1721160000@sandypines.com
SUMMARY:Teen Scavenger Hunt
DESCRIPTION:Event Information:\nEmbark on an exhilarating adventure with our Teen Scavenger Hunt\, exclusively for 13 to 17-year-olds\, on Tuesday\, July 16th\, from 6 to 8 pm. The excitement begins at the Recreation Station\, serving as your starting point for an evening filled with mystery and camaraderie. Armed with wit and enthusiasm\, teens will navigate through clever clues and hidden images scattered across the park. It’s a race against time as participants uncover the secrets of the hunt and compete for fantastic prizes. Don’t miss out on the thrill and join us for a memorable Teen Scavenger Hunt under the summer stars! 🕵️‍♂️🔍🌟 \nDate & Time:\nTuesday\, July 16th from 6 – 8 pm \nLocation:\nRecreation Station \nRegistration Required?:\nNo – Just show up a few minutes early! \nAge Range:\n13 to 17 year olds \nPrice:\nFree
URL:https://sandypines.com/event/teen-scavenger-hunt/
LOCATION:Recreation Station\, 2745 136th Ave\, Hopkins\, MI\, 49328\, United States
CATEGORIES:Recreation Events
ATTACH;FMTTYPE=image/png:https://sandypines.com/wp-content/uploads/Teen-Scavenger-Hunt.png
ORGANIZER;CN="Abby Greenfield - Recreation Manager":MAILTO:Abby@sandypines.com
END:VEVENT
BEGIN:VEVENT
DTSTART;TZID=America/Detroit:20240724T180000
DTEND;TZID=America/Detroit:20240724T200000
DTSTAMP:20260419T104021
CREATED:20240130T155951Z
LAST-MODIFIED:20240130T155951Z
UID:50399-1721844000-1721851200@sandypines.com
SUMMARY:Volleyball/Nuk'em
DESCRIPTION:Event Information:\nGet ready to spike\, set\, and have a blast at our Volleyball/Nuk’em event on Wednesday\, July 24th\, from 6 to 8 pm at the Phase 1 Volleyball Court! Open exclusively to ages 13 to 17\, this high-energy evening promises a fusion of volleyball and the fast-paced action of Nuk’em. Whether you’re a seasoned player or just getting started\, join us for an evening of friendly competition and fun under the summer sun. Grab your friends\, form a team\, and experience the thrill of this dynamic event that combines the best of both worlds. Don’t miss out on the volleyball action – see you at the courts for a smashing good time! 🏐🌞🎉 \nDate & Time:\nWednesday\, July 24th\, from 6 to 8 pm \nLocation:\nPhase 1 Volleyball Court \nRegistration Required?:\nNo – Just show up ready to play! \nAge Range:\nAges 13 – 17 \nPrice:\nFree
URL:https://sandypines.com/event/volleyball-nukem/
LOCATION:Phase 1 Volleyball Courts
CATEGORIES:Recreation Events
ATTACH;FMTTYPE=image/png:https://sandypines.com/wp-content/uploads/VolleyballNukem.png
ORGANIZER;CN="Abby Greenfield - Recreation Manager":MAILTO:Abby@sandypines.com
END:VEVENT
BEGIN:VEVENT
DTSTART;TZID=America/Detroit:20240727T093000
DTEND;TZID=America/Detroit:20240727T150000
DTSTAMP:20260419T104021
CREATED:20220713T131105Z
LAST-MODIFIED:20240625T170451Z
UID:42122-1722072600-1722092400@sandypines.com
SUMMARY:Chris Simmons Par 3 Challenge: Red Tee
DESCRIPTION:Event Information:\n\n\n\n\n\n\n\n\n\n\n\n\n\nJoin us for the 6th Annual Red Tee Challenge\, a fundraiser benefiting the Chris Simmons Hospice Fund! This exciting event\, held as a 2-man scramble with open red tees\, promises a day filled with camaraderie and competition for a great cause. \nDate: July 27th Location: Lake Monterey Golf Course \nTee off with your partner at 9:30 am\, ready to tackle the course and compete for cash placement prizes. Throughout the day\, enjoy a delicious lunch served at 1:30 pm. \nIn addition to the thrill of the game\, the event features thrilling contests including 2 closest to the pin competitions\, exciting hole-in-one challenges\, and a chance to win big in the $3\,000 putting contest! Don’t miss out on our 50/50 raffle\, where proceeds support hospice care\, along with numerous gift baskets up for grabs in our raffle. \nCome tee up for a day of golf\, giving\, and great prizes at the Red Tee Challenge. \n\n\n\n\n\n\n\n\n\n\n\n\n\nDate – Location:\nJuly 27th\nLake Monterey Golf Course \nTime:\n9:30 am start time and lunch at 1:30 pm \nRegistration Required?:\nRegister at Lake Monterey Golf Course or go to: chrispar3fun.com \nAge Range:\nAges 18+ \nPrice:\nMembers & associates $45 and Public $60\nIncludes 18 holes: cart and pulled pork lunch after\nNon-golfers $15 lunch – Tickets must be purchased before
URL:https://sandypines.com/event/chris-simmons-par-3-challenge-red-tee/
LOCATION:Lake Monterey Golf Course\, 3765 28th St\, Dorr\, MI\, 49323\, United States
CATEGORIES:Lake Monterey Golf Course
ATTACH;FMTTYPE=image/jpeg:https://sandypines.com/wp-content/uploads/448751472_950826260387066_7415740721314632192_n.jpg
END:VEVENT
BEGIN:VEVENT
DTSTART;TZID=America/Detroit:20240731T180000
DTEND;TZID=America/Detroit:20240731T200000
DTSTAMP:20260419T104021
CREATED:20240130T193908Z
LAST-MODIFIED:20240130T193908Z
UID:50418-1722448800-1722456000@sandypines.com
SUMMARY:Kids Pickleball (8 & Older)
DESCRIPTION:Event Information:\nCalling all young pickleball enthusiasts aged 8 and older! Join us for a Kids Pickleball Event on Wednesday\, July 31st\, from 6 to 8 pm at the Recreation Pickleball Courts. It’s a fantastic opportunity for kids to dive into the world of pickleball\, learn the basics\, and engage in friendly matches. Whether they’re seasoned players or new to the game\, this evening promises loads of fun\, skill-building\, and laughter. Grab your paddles and join us for an exciting Kids Pickleball Event at the Recreation Pickleball Courts! 🏓🌟👧👦 \nDate & Time:\nWednesday\, July 31st from 6 to 8 pm \nLocation:\nRecreation Pickleball Courts \nRegistration Required?:\nNo – Just show up! \nAge Range:\nKids Ages 8 & Olde \nPrice:\nFree
URL:https://sandypines.com/event/kids-pickleball-8-older/
LOCATION:Recreation Station\, 2745 136th Ave\, Hopkins\, MI\, 49328\, United States
CATEGORIES:Recreation Events
ATTACH;FMTTYPE=image/png:https://sandypines.com/wp-content/uploads/Kids-Pickleball.png
ORGANIZER;CN="Abby Greenfield - Recreation Manager":MAILTO:Abby@sandypines.com
END:VEVENT
END:VCALENDAR