BEGIN:VCALENDAR
VERSION:2.0
PRODID:-//Sandy Pines - ECPv6.15.20//NONSGML v1.0//EN
CALSCALE:GREGORIAN
METHOD:PUBLISH
X-ORIGINAL-URL:https://sandypines.com
X-WR-CALDESC:Events for Sandy Pines
REFRESH-INTERVAL;VALUE=DURATION:PT1H
X-Robots-Tag:noindex
X-PUBLISHED-TTL:PT1H
BEGIN:VTIMEZONE
TZID:America/Detroit
BEGIN:DAYLIGHT
TZOFFSETFROM:-0500
TZOFFSETTO:-0400
TZNAME:EDT
DTSTART:20230312T070000
END:DAYLIGHT
BEGIN:STANDARD
TZOFFSETFROM:-0400
TZOFFSETTO:-0500
TZNAME:EST
DTSTART:20231105T060000
END:STANDARD
BEGIN:DAYLIGHT
TZOFFSETFROM:-0500
TZOFFSETTO:-0400
TZNAME:EDT
DTSTART:20240310T070000
END:DAYLIGHT
BEGIN:STANDARD
TZOFFSETFROM:-0400
TZOFFSETTO:-0500
TZNAME:EST
DTSTART:20241103T060000
END:STANDARD
BEGIN:DAYLIGHT
TZOFFSETFROM:-0500
TZOFFSETTO:-0400
TZNAME:EDT
DTSTART:20250309T070000
END:DAYLIGHT
BEGIN:STANDARD
TZOFFSETFROM:-0400
TZOFFSETTO:-0500
TZNAME:EST
DTSTART:20251102T060000
END:STANDARD
END:VTIMEZONE
BEGIN:VEVENT
DTSTART;TZID=America/Detroit:20240406T090000
DTEND;TZID=America/Detroit:20240406T130000
DTSTAMP:20260419T151922
CREATED:20220303T194150Z
LAST-MODIFIED:20240108T145158Z
UID:37761-1712394000-1712408400@sandypines.com
SUMMARY:LMGC Spring Clean Up
DESCRIPTION:We need your help at the Lake Monterey Golf Course for our annual Spring Clean-Up! \nAssist us in cleaning the course and preparing for the new season! \nPlease bring any extra rakes or shovels that you have lying around.
URL:https://sandypines.com/event/lmgc-spring-clean-up/
LOCATION:Lake Monterey Golf Course\, 3765 28th St\, Dorr\, MI\, 49323\, United States
CATEGORIES:Lake Monterey Golf Course
ATTACH;FMTTYPE=image/png:https://sandypines.com/wp-content/uploads/Site-Clean-Up-1.png
END:VEVENT
END:VCALENDAR