BEGIN:VCALENDAR
VERSION:2.0
PRODID:-//Sandy Pines - ECPv6.15.20//NONSGML v1.0//EN
CALSCALE:GREGORIAN
METHOD:PUBLISH
X-ORIGINAL-URL:https://sandypines.com
X-WR-CALDESC:Events for Sandy Pines
REFRESH-INTERVAL;VALUE=DURATION:PT1H
X-Robots-Tag:noindex
X-PUBLISHED-TTL:PT1H
BEGIN:VTIMEZONE
TZID:America/Detroit
BEGIN:DAYLIGHT
TZOFFSETFROM:-0500
TZOFFSETTO:-0400
TZNAME:EDT
DTSTART:20230312T070000
END:DAYLIGHT
BEGIN:STANDARD
TZOFFSETFROM:-0400
TZOFFSETTO:-0500
TZNAME:EST
DTSTART:20231105T060000
END:STANDARD
BEGIN:DAYLIGHT
TZOFFSETFROM:-0500
TZOFFSETTO:-0400
TZNAME:EDT
DTSTART:20240310T070000
END:DAYLIGHT
BEGIN:STANDARD
TZOFFSETFROM:-0400
TZOFFSETTO:-0500
TZNAME:EST
DTSTART:20241103T060000
END:STANDARD
BEGIN:DAYLIGHT
TZOFFSETFROM:-0500
TZOFFSETTO:-0400
TZNAME:EDT
DTSTART:20250309T070000
END:DAYLIGHT
BEGIN:STANDARD
TZOFFSETFROM:-0400
TZOFFSETTO:-0500
TZNAME:EST
DTSTART:20251102T060000
END:STANDARD
END:VTIMEZONE
BEGIN:VEVENT
DTSTART;TZID=America/Detroit:20240319T100000
DTEND;TZID=America/Detroit:20240319T120000
DTSTAMP:20260419T165804
CREATED:20240226T194651Z
LAST-MODIFIED:20240226T195217Z
UID:50658-1710842400-1710849600@sandypines.com
SUMMARY:Annual Contractor Meeting
DESCRIPTION:Attention all contractors! \nWe’re excited to invite you to the annual Sandy Pines Contractor Meeting\, scheduled for Tuesday\, March 19th\, at 10 am. This important gathering will take place at the North Shore Center. \nWhy attend?\n\nGet answers: This is your chance to ask questions and seek clarification on any aspects of park operations.\nDiscuss updates: We’ll be reviewing any rule changes and discussing their implications.\nConnect: Network with fellow contractors and park management.\n\nPlease note:\n\nThe yearly contractor fee has increased by $25\, totaling $225 for the season. This fee includes contractor cards for park entry.\nIt’s crucial for all contractors to attend or send a representative.\n\nHelp us spread the word! If you know any contractors who may be interested in working within the park\, please encourage them to join us. \nFor further information or inquiries\, feel free to reach out the Park Inspector directly at Inspector@SandyPines.com \nLet’s make this season a success together!
URL:https://sandypines.com/event/annual-contractor-meeting/
LOCATION:North Shore Center\, 2745 136th Ave\, Hopkins\, MI\, 49328\, United States
CATEGORIES:Meetings
ATTACH;FMTTYPE=image/png:https://sandypines.com/wp-content/uploads/Annual-Contractor-Meeting.png
ORGANIZER;CN="Park Inspector":MAILTO:inspector@sandypines.com
END:VEVENT
END:VCALENDAR