BEGIN:VCALENDAR
VERSION:2.0
PRODID:-//Sandy Pines - ECPv6.15.20//NONSGML v1.0//EN
CALSCALE:GREGORIAN
METHOD:PUBLISH
X-WR-CALNAME:Sandy Pines
X-ORIGINAL-URL:https://sandypines.com
X-WR-CALDESC:Events for Sandy Pines
REFRESH-INTERVAL;VALUE=DURATION:PT1H
X-Robots-Tag:noindex
X-PUBLISHED-TTL:PT1H
BEGIN:VTIMEZONE
TZID:America/Detroit
BEGIN:DAYLIGHT
TZOFFSETFROM:-0500
TZOFFSETTO:-0400
TZNAME:EDT
DTSTART:20220313T070000
END:DAYLIGHT
BEGIN:STANDARD
TZOFFSETFROM:-0400
TZOFFSETTO:-0500
TZNAME:EST
DTSTART:20221106T060000
END:STANDARD
BEGIN:DAYLIGHT
TZOFFSETFROM:-0500
TZOFFSETTO:-0400
TZNAME:EDT
DTSTART:20230312T070000
END:DAYLIGHT
BEGIN:STANDARD
TZOFFSETFROM:-0400
TZOFFSETTO:-0500
TZNAME:EST
DTSTART:20231105T060000
END:STANDARD
BEGIN:DAYLIGHT
TZOFFSETFROM:-0500
TZOFFSETTO:-0400
TZNAME:EDT
DTSTART:20240310T070000
END:DAYLIGHT
BEGIN:STANDARD
TZOFFSETFROM:-0400
TZOFFSETTO:-0500
TZNAME:EST
DTSTART:20241103T060000
END:STANDARD
END:VTIMEZONE
BEGIN:VEVENT
DTSTART;VALUE=DATE:20231013
DTEND;VALUE=DATE:20231014
DTSTAMP:20260420T024223
CREATED:20220404T191549Z
LAST-MODIFIED:20251120T185437Z
UID:38635-1697155200-1697241599@sandypines.com
SUMMARY:Water Softeners Due at Park & Garden
DESCRIPTION:This is the due date for water softener returns at Park & Garden. Thanks for planning ahead to get yours returned on time.
URL:https://sandypines.com/event/water-softeners-due-at-park-garden/
LOCATION:Park & Garden
CATEGORIES:Community Information
ATTACH;FMTTYPE=image/png:https://sandypines.com/wp-content/uploads/Water-Softeners-Due.png
ORGANIZER;CN="Dale Yoder - Park & Garden":MAILTO:ParkGarden@SandyPines.com
END:VEVENT
END:VCALENDAR